BEGIN:VCALENDAR
VERSION:2.0
PRODID:-//Library Market//iCal Export//EN
BEGIN:VEVENT
SUMMARY:Dinosaur Rock Resin Keychain
UID:33845
DTSTAMP:20260423T140600Z
DTSTART:20260720T223000Z
DTEND:20260720T233000Z
LOCATION:William K. Sanford Town Library, 629 Albany Shaker Road, Loudonvi
 lle, NY 12211, United States
ROOM: Activity Room
DESCRIPTION:Create your own fossil rock with dinosaur keychain. We will be
  using various material including resin.
URL:https://events.colonielibrary.org/event/teen-event-33845
END:VEVENT
END:VCALENDAR
