BEGIN:VCALENDAR
VERSION:2.0
PRODID:-//Library Market//iCal Export//EN
BEGIN:VEVENT
SUMMARY:Dinosaur Sunset Painting
UID:33846
DTSTAMP:20260423T140600Z
DTSTART:20260727T223000Z
DTEND:20260727T233000Z
LOCATION:William K. Sanford Town Library, 629 Albany Shaker Road, Loudonvi
 lle, NY 12211, United States
ROOM: Activity Room
DESCRIPTION:Use acrylic paint and canvas to make a cool sunset and dinosau
 r theme creation.
URL:https://events.colonielibrary.org/event/teen-event-33846
END:VEVENT
END:VCALENDAR
