BEGIN:VCALENDAR
VERSION:2.0
PRODID:-//Library Market//iCal Export//EN
BEGIN:VEVENT
SUMMARY:Dirt and Worms Dessert
UID:33852
DTSTAMP:20260421T153100Z
DTSTART:20260723T180000Z
DTEND:20260723T190000Z
LOCATION:William K. Sanford Town Library, 629 Albany Shaker Road, Loudonvi
 lle, NY 12211, United States
ROOM: Activity Room
DESCRIPTION:Make and enjoy this yummy dessert!
URL:https://events.colonielibrary.org/event/teen-event-33852
END:VEVENT
END:VCALENDAR
