BEGIN:VCALENDAR
VERSION:2.0
PRODID:-//Library Market//iCal Export//EN
BEGIN:VEVENT
SUMMARY:Adult Movie Monday &quot;Sentinmental Value&quot;
UID:36708
DTSTAMP:20260424T082400Z
DTSTART:20260803T180000Z
DTEND:20260803T204500Z
LOCATION:William K. Sanford Town Library, 629 Albany Shaker Road, Loudonvi
 lle, NY 12211, United States
ROOM: Stedman Room
DESCRIPTION: This month&#039;s movie:  Sentimental ValueRating: RRuntim
 e: 2h 13m​Description: Nora, an actor, and her sister Agnes, are griev
 ing the loss of their mother when their father Gustav reappears in their l
 ives after a long absence. Gustav, a once-celebrated filmmaker, has writte
 n a script for a comeback movie and offered the main part to his daughter 
 Nora, but she categorically refuses the role. During a career retrospectiv
 e in France, Gustav meets an adoring Hollywood star and offers her the par
 t intended for Nora.Starring: Renate Reinsve, Stellan Skarsgård, Inga Ibs
 dotter Lilleaas, Elle Fanning, Anders Danielsen Lie*This movie is mostly i
 n Norwegian and English    
URL:https://events.colonielibrary.org/event/adult-movie-monday-36708
END:VEVENT
END:VCALENDAR
