BEGIN:VCALENDAR
VERSION:2.0
PRODID:-//Library Market//iCal Export//EN
BEGIN:VEVENT
SUMMARY:Mahjong with Friends &amp; Neighbors
UID:37578
DTSTAMP:20260423T235500Z
DTSTART:20260701T190000Z
DTEND:20260701T210000Z
LOCATION:William K. Sanford Town Library, 629 Albany Shaker Road, Loudonvi
 lle, NY 12211, United States
ROOM: Activity Room
DESCRIPTION:Come to the library to play American Mahjong with new and old 
 friends! All players must bring their own playing card. Note: This is not
  a class. 
URL:https://events.colonielibrary.org/event/mahjong-friends-neighbors-3757
 8
END:VEVENT
END:VCALENDAR
