BEGIN:VCALENDAR
VERSION:2.0
PRODID:-//Library Market//iCal Export//EN
BEGIN:VEVENT
SUMMARY:Family LEGO Night!
UID:37862
DTSTAMP:20260425T031100Z
DTSTART:20260715T220000Z
DTEND:20260715T233000Z
LOCATION:William K. Sanford Town Library, 629 Albany Shaker Road, Loudonvi
 lle, NY 12211, United States
ROOM: Stedman Room
DESCRIPTION:Bring the whole family for an evening of building, imagination
 , and fun at our Family LEGO® Night! Families are invited to work togethe
 r to design and create amazing LEGO builds using their creativity and team
 work. Whether you’re constructing towering castles, speedy vehicles, col
 orful cities, or something completely unique, the possibilities are endles
 s.This special program celebrates family time, creativity, and problem-sol
 ving as kids and adults collaborate, share ideas, and inspire each other. 
 It’s a great opportunity to unplug, connect with one another, and let yo
 ur imagination run wild in a welcoming library space.All skill levels are 
 welcome—just bring your creativity and be ready to build together!
URL:https://events.colonielibrary.org/event/family-drop-lego-night-37862
END:VEVENT
END:VCALENDAR
