BEGIN:VCALENDAR
VERSION:2.0
PRODID:-//Library Market//iCal Export//EN
BEGIN:VEVENT
SUMMARY:The Playtime Players Family Concert
UID:39829
DTSTAMP:20260421T141900Z
DTSTART:20260708T220000Z
DTEND:20260708T230000Z
LOCATION:William K. Sanford Town Library, 629 Albany Shaker Road, Loudonvi
 lle, NY 12211, United States
ROOM: Stedman Room
DESCRIPTION:Join Lucia and Levi from The Playtime Players for a fun and en
 gaging performance your whole family will love!  
URL:https://events.colonielibrary.org/event/music-children-39829
END:VEVENT
END:VCALENDAR
