BEGIN:VCALENDAR
VERSION:2.0
PRODID:-//Library Market//iCal Export//EN
BEGIN:VEVENT
SUMMARY:Saving the USS Slater
UID:40991
DTSTAMP:20260421T093000Z
DTSTART:20260711T180000Z
DTEND:20260711T193000Z
LOCATION:William K. Sanford Town Library, 629 Albany Shaker Road, Loudonvi
 lle, NY 12211, United States
ROOM: Stedman Room
DESCRIPTION:This presentation shares the history of USS SLATER and why she
  was chosen to become the Destroyer Escort Historical Museum. Stories will
  be shared about the history of Destroyer Escorts, SLATER’S involvement 
 in WWII, her service in the Greek Navy, and her restoration transforming h
 er into a world class museum. Presented by a SLATER volunteer you will ge
 t a first-hand look at the hard work that goes into keeping the “Old Gir
 l” afloat. 
URL:https://events.colonielibrary.org/event/saving-uss-slater-40991
END:VEVENT
END:VCALENDAR
