BEGIN:VCALENDAR
VERSION:2.0
PRODID:-//Library Market//iCal Export//EN
BEGIN:VEVENT
SUMMARY:Crafts &amp; Laughs
UID:41029
DTSTAMP:20260421T093000Z
DTSTART:20260606T140000Z
DTEND:20260606T200000Z
LOCATION:William K. Sanford Town Library, 629 Albany Shaker Road, Loudonvi
 lle, NY 12211, United States
ROOM: Stedman Room
DESCRIPTION:We&#039;re hosting a 2-day scrapbooking and crafting event, so
  gather your supplies and haul them over to the library for some creative
  camaraderie!  Feel free to bring whatever craft project you&#039;re work
 ing on; it&#039;s always fun to see what everyone&#039;s up to!  Please 
 register separately for each day you would like to attend. Registration op
 ens Friday, May 1. 
URL:https://events.colonielibrary.org/event/crafts-laughs-41029
END:VEVENT
END:VCALENDAR
