BEGIN:VCALENDAR
VERSION:2.0
PRODID:-//Library Market//iCal Export//EN
BEGIN:VEVENT
SUMMARY:Stay &amp; Play
UID:41030
DTSTAMP:20260421T141900Z
DTSTART:20260501T141500Z
DTEND:20260501T150000Z
LOCATION:William K. Sanford Town Library, 629 Albany Shaker Road, Loudonvi
 lle, NY 12211, United States
ROOM: Stedman Room
DESCRIPTION:
URL:https://events.colonielibrary.org/event/stay-play-41030
END:VEVENT
END:VCALENDAR
