BEGIN:VCALENDAR
VERSION:2.0
PRODID:-//Library Market//iCal Export//EN
BEGIN:VEVENT
SUMMARY:Puzzle Swap
UID:41166
DTSTAMP:20260421T125600Z
DTSTART:20261205T150000Z
DTEND:20261205T170000Z
LOCATION:William K. Sanford Town Library, 629 Albany Shaker Road, Loudonvi
 lle, NY 12211, United States
ROOM: Stedman Room
DESCRIPTION:Bring a gently used puzzle to swap for a ‘new’ to you puzz
 le. No limit on the number of puzzles to swap, however, organizers will mo
 nitor. Any piece count is allowed. Please secure puzzle boxes with a rubbe
 r band or bag pieces. If your puzzle is missing pieces please put a sticky
  note on the box with number of missing pieces. No Dollar Tree puzzles ple
 ase.
URL:https://events.colonielibrary.org/event/puzzle-swap-41166
END:VEVENT
END:VCALENDAR
