BEGIN:VCALENDAR
VERSION:2.0
PRODID:-//Library Market//iCal Export//EN
BEGIN:VEVENT
SUMMARY:Social Security Seminar
UID:41167
DTSTAMP:20260421T093000Z
DTSTART:20260611T220000Z
DTEND:20260611T234500Z
LOCATION:William K. Sanford Town Library, 629 Albany Shaker Road, Loudonvi
 lle, NY 12211, United States
ROOM: Stedman Room
DESCRIPTION:Social Security is the first or second largest source of incom
 e for most retirees, so it’s important to get the facts before you file.
  At this complimentary seminar, you’ll learn simple strategies to help m
 aximize your benefits and potentially increase your retirement income! Get
  answers to your questions, such as: How are my benefits calculated? How d
 o I choose between taking my benefits early vs delaying? How can I reduce 
 taxes on my Social Security? When can my spouse collect spousal benefits? 
 What benefits are available to a divorced spouse or a widow/widower? Can I
  continue working after I claim benefits? The seminar is presented by the 
 Society for Financial Awareness, a non-profit organization whose mission i
 s to provide financial education across America, one community at a time.
URL:https://events.colonielibrary.org/event/thoroughbred-advisors-41167
END:VEVENT
END:VCALENDAR
