BEGIN:VCALENDAR
VERSION:2.0
PRODID:-//Library Market//iCal Export//EN
BEGIN:VEVENT
SUMMARY:Medicare Tabling
UID:41174
DTSTAMP:20260421T055200Z
DTSTART:20260910T140000Z
DTEND:20260910T160000Z
LOCATION:William K. Sanford Town Library, 629 Albany Shaker Road, Loudonvi
 lle, NY 12211, United States
ROOM: Gallery
DESCRIPTION: A representative of NY StateWide Senior Action Council will 
 be tabling at the William Sandford Town Library.  Valuable information wi
 ll be available on how to protect yourself against Medicare fraud, income 
 qualifications for the Medicare Savings Program (assistance with Part B pr
 emium and Part D copays and deductibles) and if you are going to be new to
  Medicare and have questions about what to do and when...we can help! 
URL:https://events.colonielibrary.org/event/medicare-tabling-41174
END:VEVENT
END:VCALENDAR
