BEGIN:VCALENDAR
VERSION:2.0
PRODID:-//Library Market//iCal Export//EN
BEGIN:VEVENT
SUMMARY:Medicare 101
UID:41176
DTSTAMP:20260424T162400Z
DTSTART:20260916T220000Z
DTEND:20260916T234500Z
LOCATION:William K. Sanford Town Library, 629 Albany Shaker Road, Loudonvi
 lle, NY 12211, United States
ROOM: Stedman Room
DESCRIPTION:Candy Rivera Whitehead,  a NY StateWide Senior Action Counci
 l representative, will present the basics of Medicare. If you will be turn
 ing 65 within the next year, or over 65 and considering retirement, you wi
 ll find this presentation helpful.  We will cover the different parts of 
 Medicare (ABCD), Medicare enrollment process, timelines and enrollment pe
 riods, Medigap vs Medicare Advantage, available assistance programs, Part
  B and D penalties, and much more. Having a better understanding of Medica
 re and your options, will provide you with the ability to make a more info
 rmed decision that fits your health and financial needs. 
URL:https://events.colonielibrary.org/event/medicare-101-41176
END:VEVENT
END:VCALENDAR
