BEGIN:VCALENDAR
VERSION:2.0
PRODID:-//Library Market//iCal Export//EN
BEGIN:VEVENT
SUMMARY:Mabel and Geffrey Musical Comedy Show
UID:41180
DTSTAMP:20260424T194200Z
DTSTART:20261112T233000Z
DTEND:20261113T003000Z
LOCATION:William K. Sanford Town Library, 629 Albany Shaker Road, Loudonvi
 lle, NY 12211, United States
ROOM: Stedman Room
DESCRIPTION:Mabel &amp; Geffrey’s Music And Family Interest Affair is an
  interactive musical comedy program featuring improvised songs, character-
 driven humor, and audience participation. Audience suggestions inspire the
  music and stories, making each performance completely unique. The program
  encourages creativity and engagement while providing a lively, participat
 ory experience.    Supported by the Friends of the Library 
URL:https://events.colonielibrary.org/event/heather-mabel-and-geffrey-4118
 0
END:VEVENT
END:VCALENDAR
