BEGIN:VCALENDAR
VERSION:2.0
PRODID:-//Library Market//iCal Export//EN
BEGIN:VEVENT
SUMMARY:Colonie Art League Holiday Show Reception
UID:41250
DTSTAMP:20260423T175300Z
DTSTART:20261205T190000Z
DTEND:20261205T210000Z
LOCATION:William K. Sanford Town Library, 629 Albany Shaker Road, Loudonvi
 lle, NY 12211, United States
ROOM: Stedman Room
DESCRIPTION:
URL:https://events.colonielibrary.org/event/colonie-art-league-holiday-sho
 w-reception-41250
END:VEVENT
END:VCALENDAR
